BEGIN:VCALENDAR
VERSION:2.0
PRODID:-//jEvents 2.0 for Joomla//EN
CALSCALE:GREGORIAN
METHOD:PUBLISH
BEGIN:VTIMEZONE
TZID:Europe/Berlin
END:VTIMEZONE
BEGIN:VEVENT
UID:d5588ea9e57165b68f5ed375d3f96e0d
CATEGORIES:DEFAULT
CREATED:20180218T174807
SUMMARY:Weihnachten
DESCRIPTION:
DTSTAMP:20260421T205459
DTSTART;TZID=Europe/Berlin;VALUE=DATE:20331225
DTEND;TZID=Europe/Berlin;VALUE=DATE:20331227
SEQUENCE:0
TRANSP:OPAQUE
END:VEVENT
END:VCALENDAR